BEGIN:VCALENDAR
VERSION:2.0
PRODID:-//Library Market//iCal Export//EN
BEGIN:VEVENT
SUMMARY:Big Blue Blocks
UID:47256
DTSTAMP:20260421T233000Z
DTSTART:20260721T210000Z
DTEND:20260721T220000Z
LOCATION:2665 Irving St., Portage, IN 46368, United States
ROOM: Combined Meeting Room A&amp;B
DESCRIPTION:Drop-in and build fun structures with friends! We provide over
 sized blue blocks for teens to build together and let their imaginations r
 un wild! Registration is requested but not required.
URL:https://www.pcpls.org/event/big-blue-blocks-47256
END:VEVENT
END:VCALENDAR
